BEGIN:VCALENDAR
VERSION:2.0
PRODID:-//wp-events-plugin.com//7.2.3.1//EN
TZID:Europe/Paris
X-WR-TIMEZONE:Europe/Paris
BEGIN:VEVENT
UID:5261@capelou.org
DTSTART;TZID=Europe/Paris:20260427T150000
DTEND;TZID=Europe/Paris:20260427T150000
DTSTAMP:20260423T134137Z
URL:https://capelou.org/events/m-jacques-ranouil-a-salles-de-belves/
SUMMARY:M. Jacques RANOUIL à Salles-de-Belvès
DESCRIPTION:Obsèques de M. Jacques RANOUIL à Salles-de-Belvès
CATEGORIES:Obsèques
LOCATION:Salles-de-Belvès\, 107 route du Pont\, Salles de Belvès\, 24170\
 , France
GEO:44.711466;0.999398
X-APPLE-STRUCTURED-LOCATION;VALUE=URI;X-ADDRESS=107 route du Pont\, Salles 
 de Belvès\, 24170\, France;X-APPLE-RADIUS=100;X-TITLE=Salles-de-Belvès:g
 eo:44.711466,0.999398
END:VEVENT
BEGIN:VTIMEZONE
TZID:Europe/Paris
X-LIC-LOCATION:Europe/Paris
BEGIN:DAYLIGHT
DTSTART:20260329T030000
TZOFFSETFROM:+0100
TZOFFSETTO:+0200
TZNAME:CEST
END:DAYLIGHT
END:VTIMEZONE
END:VCALENDAR