BEGIN:VCALENDAR
VERSION:2.0
PRODID:-//wp-events-plugin.com//7.2.3.1//EN
TZID:Europe/Paris
X-WR-TIMEZONE:Europe/Paris
BEGIN:VEVENT
UID:5230@capelou.org
DTSTART;TZID=Europe/Paris:20260716T110000
DTEND;TZID=Europe/Paris:20260716T110000
DTSTAMP:20260420T071701Z
URL:https://capelou.org/events/messe-a-capelou-2-2026-07-16/
SUMMARY:Messe à Capelou
DESCRIPTION:Messe de la semaine à Capelou
CATEGORIES:Messe
LOCATION:Capelou\, Capelou\, Belvès\, 24170\, France
GEO:44.776557;0.988959
X-APPLE-STRUCTURED-LOCATION;VALUE=URI;X-ADDRESS=Capelou\, Belvès\, 24170\,
  France;X-APPLE-RADIUS=100;X-TITLE=Capelou:geo:44.776557,0.988959
END:VEVENT
BEGIN:VTIMEZONE
TZID:Europe/Paris
X-LIC-LOCATION:Europe/Paris
BEGIN:DAYLIGHT
DTSTART:20260329T030000
TZOFFSETFROM:+0100
TZOFFSETTO:+0200
TZNAME:CEST
END:DAYLIGHT
END:VTIMEZONE
END:VCALENDAR