BEGIN:VCALENDAR
VERSION:2.0
PRODID:-//wp-events-plugin.com//7.2.3.1//EN
TZID:Europe/Paris
X-WR-TIMEZONE:Europe/Paris
BEGIN:VEVENT
UID:5047@capelou.org
DTSTART;TZID=Europe/Paris:20260501T153000
DTEND;TZID=Europe/Paris:20260501T153000
DTSTAMP:20260418T083600Z
URL:https://capelou.org/events/messe-a-lehpad-de-belves-2/
SUMMARY:Messe à l'EHPAD de Belvès
DESCRIPTION:Messe à l'EHPAD de Belvès
CATEGORIES:Messe
LOCATION:EHPAD de Belvès\, Place Maurice Biraben\, Pays-de-Belvès\, 24170
 \, France
GEO:44.776074;1.009438
X-APPLE-STRUCTURED-LOCATION;VALUE=URI;X-ADDRESS=Place Maurice Biraben\, Pay
 s-de-Belvès\, 24170\, France;X-APPLE-RADIUS=100;X-TITLE=EHPAD de Belvès:
 geo:44.776074,1.009438
END:VEVENT
BEGIN:VTIMEZONE
TZID:Europe/Paris
X-LIC-LOCATION:Europe/Paris
BEGIN:DAYLIGHT
DTSTART:20260329T030000
TZOFFSETFROM:+0100
TZOFFSETTO:+0200
TZNAME:CEST
END:DAYLIGHT
END:VTIMEZONE
END:VCALENDAR