BEGIN:VCALENDAR
VERSION:2.0
PRODID:-//wp-events-plugin.com//7.2.3.1//EN
TZID:Europe/Paris
X-WR-TIMEZONE:Europe/Paris
BEGIN:VEVENT
UID:5043@capelou.org
DTSTART;TZID=Europe/Paris:20260429T150000
DTEND;TZID=Europe/Paris:20260429T150000
DTSTAMP:20260418T082024Z
URL:https://capelou.org/events/messe-a-lehpad-de-cadouin-3/
SUMMARY:Messe à L'EHPAD de Cadouin
DESCRIPTION:Messe à L'EHPAD de Cadouin
CATEGORIES:Messe
LOCATION:EHPAD de Cadouin\, route de Cadouin\, Le Buisson De Cadouin\, 2448
 0\, France
GEO:44.812714;0.876459
X-APPLE-STRUCTURED-LOCATION;VALUE=URI;X-ADDRESS=route de Cadouin\, Le Buiss
 on De Cadouin\, 24480\, France;X-APPLE-RADIUS=100;X-TITLE=EHPAD de Cadouin
 :geo:44.812714,0.876459
END:VEVENT
BEGIN:VTIMEZONE
TZID:Europe/Paris
X-LIC-LOCATION:Europe/Paris
BEGIN:DAYLIGHT
DTSTART:20260329T030000
TZOFFSETFROM:+0100
TZOFFSETTO:+0200
TZNAME:CEST
END:DAYLIGHT
END:VTIMEZONE
END:VCALENDAR