BEGIN:VCALENDAR
VERSION:2.0
PRODID:-//wp-events-plugin.com//7.2.3.1//EN
TZID:Europe/Paris
X-WR-TIMEZONE:Europe/Paris
BEGIN:VEVENT
UID:5044@capelou.org
DTSTART;TZID=Europe/Paris:20260430T150000
DTEND;TZID=Europe/Paris:20260430T150000
DTSTAMP:20260418T083830Z
URL:https://capelou.org/events/messe-a-lehpad-de-villefranche-du-perigord-
 3/
SUMMARY:Messe à l'EHPAD de Villefranche-du-Périgord
DESCRIPTION:Messe à l'EHPAD de Villefranche-du-Périgord
CATEGORIES:Messe
LOCATION:EHPAD de Villefranche\, Les Clauds de Laly\, Villefranche du Péri
 gord\, 24550\, France
GEO:44.630553981571154;1.0797920055572376
X-APPLE-STRUCTURED-LOCATION;VALUE=URI;X-ADDRESS=Les Clauds de Laly\, Villef
 ranche du Périgord\, 24550\, France;X-APPLE-RADIUS=100;X-TITLE=EHPAD de V
 illefranche:geo:44.630553981571154,1.0797920055572376
END:VEVENT
BEGIN:VTIMEZONE
TZID:Europe/Paris
X-LIC-LOCATION:Europe/Paris
BEGIN:DAYLIGHT
DTSTART:20260329T030000
TZOFFSETFROM:+0100
TZOFFSETTO:+0200
TZNAME:CEST
END:DAYLIGHT
END:VTIMEZONE
END:VCALENDAR