BEGIN:VCALENDAR
VERSION:2.0
PRODID:-//wp-events-plugin.com//7.2.3.1//EN
TZID:Europe/Paris
X-WR-TIMEZONE:Europe/Paris
BEGIN:VEVENT
UID:5241@capelou.org
DTSTART;TZID=Europe/Paris:20260507T150000
DTEND;TZID=Europe/Paris:20260507T150000
DTSTAMP:20260420T073816Z
URL:https://capelou.org/events/messe-a-lehpad-de-villefranche-du-perigord-
 4/
SUMMARY:Messe à l'EHPAD de Villefranche-du-Périgord
DESCRIPTION:Messe à l'EHPAD de Villefranche-du-Périgord
CATEGORIES:Messe
LOCATION:Villefranche\, place de la Libertée\, Villefranche du Périgord\,
  24550\, France
GEO:44.63059768861725;1.076106837434395
X-APPLE-STRUCTURED-LOCATION;VALUE=URI;X-ADDRESS=place de la Libertée\, Vil
 lefranche du Périgord\, 24550\, France;X-APPLE-RADIUS=100;X-TITLE=Villefr
 anche:geo:44.63059768861725,1.076106837434395
END:VEVENT
BEGIN:VTIMEZONE
TZID:Europe/Paris
X-LIC-LOCATION:Europe/Paris
BEGIN:DAYLIGHT
DTSTART:20260329T030000
TZOFFSETFROM:+0100
TZOFFSETTO:+0200
TZNAME:CEST
END:DAYLIGHT
END:VTIMEZONE
END:VCALENDAR