BEGIN:VCALENDAR
VERSION:2.0
PRODID:-//wp-events-plugin.com//7.2.3.1//EN
TZID:Europe/Paris
X-WR-TIMEZONE:Europe/Paris
BEGIN:VEVENT
UID:5042@capelou.org
DTSTART;TZID=Europe/Paris:20260428T103000
DTEND;TZID=Europe/Paris:20260428T103000
DTSTAMP:20260418T081359Z
URL:https://capelou.org/events/messe-a-lehpad-du-bugue-8/
SUMMARY:Messe à L'EHPAD du Bugue
DESCRIPTION:Messe à L'EHPAD du Bugue
CATEGORIES:Messe
LOCATION:EHPAD du Bugue\, 594 rue de la Boétie\, Le Bugue\, 24260\, France
GEO:44.920501;0.925373
X-APPLE-STRUCTURED-LOCATION;VALUE=URI;X-ADDRESS=594 rue de la Boétie\, Le 
 Bugue\, 24260\, France;X-APPLE-RADIUS=100;X-TITLE=EHPAD du Bugue:geo:44.92
 0501,0.925373
END:VEVENT
BEGIN:VTIMEZONE
TZID:Europe/Paris
X-LIC-LOCATION:Europe/Paris
BEGIN:DAYLIGHT
DTSTART:20260329T030000
TZOFFSETFROM:+0100
TZOFFSETTO:+0200
TZNAME:CEST
END:DAYLIGHT
END:VTIMEZONE
END:VCALENDAR