BEGIN:VCALENDAR
VERSION:2.0
PRODID:-//wp-events-plugin.com//7.2.3.1//EN
TZID:Europe/Paris
X-WR-TIMEZONE:Europe/Paris
BEGIN:VEVENT
UID:5240@capelou.org
DTSTART;TZID=Europe/Paris:20260507T163000
DTEND;TZID=Europe/Paris:20260507T163000
DTSTAMP:20260420T073550Z
URL:https://capelou.org/events/messe-a-mauzens-et-miremont/
SUMMARY:Messe à Mauzens-et-Miremont
DESCRIPTION:Messe de semaine à Mauzens-et-Miremont
CATEGORIES:Messe
LOCATION:Mauzens-et-Miremont\, 201 route du Bourg\, Mauzens-Miremont\, 2426
 0\, France
GEO:44.99379;0.918132
X-APPLE-STRUCTURED-LOCATION;VALUE=URI;X-ADDRESS=201 route du Bourg\, Mauzen
 s-Miremont\, 24260\, France;X-APPLE-RADIUS=100;X-TITLE=Mauzens-et-Miremont
 :geo:44.99379,0.918132
END:VEVENT
BEGIN:VTIMEZONE
TZID:Europe/Paris
X-LIC-LOCATION:Europe/Paris
BEGIN:DAYLIGHT
DTSTART:20260329T030000
TZOFFSETFROM:+0100
TZOFFSETTO:+0200
TZNAME:CEST
END:DAYLIGHT
END:VTIMEZONE
END:VCALENDAR