BEGIN:VCALENDAR
VERSION:2.0
PRODID:-//wp-events-plugin.com//7.2.3.1//EN
TZID:Europe/Paris
X-WR-TIMEZONE:Europe/Paris
BEGIN:VEVENT
UID:5045@capelou.org
DTSTART;TZID=Europe/Paris:20260430T163000
DTEND;TZID=Europe/Paris:20260430T163000
DTSTAMP:20260418T082311Z
URL:https://capelou.org/events/messe-a-meyrals/
SUMMARY:Messe à Meyrals
DESCRIPTION:Messe de semaine à Meyrals
CATEGORIES:Messe
LOCATION:Meyrals\, 76 rue Saint-Eutrope\, Meyrals\, 24220\, France
GEO:44.898946;1.063977
X-APPLE-STRUCTURED-LOCATION;VALUE=URI;X-ADDRESS=76 rue Saint-Eutrope\, Meyr
 als\, 24220\, France;X-APPLE-RADIUS=100;X-TITLE=Meyrals:geo:44.898946,1.06
 3977
END:VEVENT
BEGIN:VTIMEZONE
TZID:Europe/Paris
X-LIC-LOCATION:Europe/Paris
BEGIN:DAYLIGHT
DTSTART:20260329T030000
TZOFFSETFROM:+0100
TZOFFSETTO:+0200
TZNAME:CEST
END:DAYLIGHT
END:VTIMEZONE
END:VCALENDAR