BEGIN:VCALENDAR
VERSION:2.0
PRODID:-//wp-events-plugin.com//7.2.3.1//EN
TZID:Europe/Paris
X-WR-TIMEZONE:Europe/Paris
BEGIN:VEVENT
UID:5207@capelou.org
DTSTART;TZID=Europe/Paris:20260823T091500
DTEND;TZID=Europe/Paris:20260823T091500
DTSTAMP:20260419T160331Z
URL:https://capelou.org/events/messe-au-bugue-1-2026-05-10-2026-05-17-2026
 -05-24-2026-05-31-2026-06-07-2026-06-14-2026-06-21-2026-06-28-2026-07-05-2
 026-07-12-2026-07-19-2026-07-26-2026-08-02-2026-08-09-2026-08-16-2026-08-2
 3/
SUMMARY:Messe au Bugue
DESCRIPTION:Messe dominicale à l'église du Bugue
CATEGORIES:Messe
LOCATION:Le Bugue\, 47 rue de Paris\, Bugue\, 24260\, France
GEO:44.920563;0.926938
X-APPLE-STRUCTURED-LOCATION;VALUE=URI;X-ADDRESS=47 rue de Paris\, Bugue\, 2
 4260\, France;X-APPLE-RADIUS=100;X-TITLE=Le Bugue:geo:44.920563,0.926938
END:VEVENT
BEGIN:VTIMEZONE
TZID:Europe/Paris
X-LIC-LOCATION:Europe/Paris
BEGIN:DAYLIGHT
DTSTART:20260329T030000
TZOFFSETFROM:+0100
TZOFFSETTO:+0200
TZNAME:CEST
END:DAYLIGHT
END:VTIMEZONE
END:VCALENDAR