BEGIN:VCALENDAR
VERSION:2.0
PRODID:-//wp-events-plugin.com//7.2.3.1//EN
TZID:Europe/Paris
X-WR-TIMEZONE:Europe/Paris
BEGIN:VEVENT
UID:5048@capelou.org
DTSTART;TZID=Europe/Paris:20260502T180000
DTEND;TZID=Europe/Paris:20260502T180000
DTSTAMP:20260418T084135Z
URL:https://capelou.org/events/messe-au-buisson-de-cadouin-5/
SUMMARY:Messe au Buisson-de-Cadouin
DESCRIPTION:Messe dominicale anticipée au Buisson-de-Cadouin
CATEGORIES:Messe
LOCATION:Le Buisson\, 4 place de l'Eglise\, Le Buisson de Cadouin\, 24480\,
  France
GEO:44.843163;0.90864
X-APPLE-STRUCTURED-LOCATION;VALUE=URI;X-ADDRESS=4 place de l'Eglise\, Le Bu
 isson de Cadouin\, 24480\, France;X-APPLE-RADIUS=100;X-TITLE=Le Buisson:ge
 o:44.843163,0.90864
END:VEVENT
BEGIN:VTIMEZONE
TZID:Europe/Paris
X-LIC-LOCATION:Europe/Paris
BEGIN:DAYLIGHT
DTSTART:20260329T030000
TZOFFSETFROM:+0100
TZOFFSETTO:+0200
TZNAME:CEST
END:DAYLIGHT
END:VTIMEZONE
END:VCALENDAR